BEGIN:VCALENDAR
PRODID:-//Microsoft Corporation//Outlook MIMEDIR//EN
VERSION:2.0
METHOD:PUBLISH
BEGIN:VEVENT
DTSTART:20260421T153000
DTEND:20260421T163000
DESCRIPTION:
LOCATION:Virtual Meeting
SUMMARY:Mayor and Council Closed Session
CATEGORIES:MEETING
END:VEVENT
END:VCALENDAR
